BEGIN:VCALENDAR
VERSION:2.0
PRODID:-//Chicago Cook Workforce Partnership - ECPv6.15.20//NONSGML v1.0//EN
CALSCALE:GREGORIAN
METHOD:PUBLISH
X-WR-CALNAME:Chicago Cook Workforce Partnership
X-ORIGINAL-URL:https://chicookworks.org
X-WR-CALDESC:Events for Chicago Cook Workforce Partnership
REFRESH-INTERVAL;VALUE=DURATION:PT1H
X-Robots-Tag:noindex
X-PUBLISHED-TTL:PT1H
BEGIN:VTIMEZONE
TZID:America/Chicago
BEGIN:DAYLIGHT
TZOFFSETFROM:-0600
TZOFFSETTO:-0500
TZNAME:CDT
DTSTART:20220313T080000
END:DAYLIGHT
BEGIN:STANDARD
TZOFFSETFROM:-0500
TZOFFSETTO:-0600
TZNAME:CST
DTSTART:20221106T070000
END:STANDARD
BEGIN:DAYLIGHT
TZOFFSETFROM:-0600
TZOFFSETTO:-0500
TZNAME:CDT
DTSTART:20230312T080000
END:DAYLIGHT
BEGIN:STANDARD
TZOFFSETFROM:-0500
TZOFFSETTO:-0600
TZNAME:CST
DTSTART:20231105T070000
END:STANDARD
BEGIN:DAYLIGHT
TZOFFSETFROM:-0600
TZOFFSETTO:-0500
TZNAME:CDT
DTSTART:20240310T080000
END:DAYLIGHT
BEGIN:STANDARD
TZOFFSETFROM:-0500
TZOFFSETTO:-0600
TZNAME:CST
DTSTART:20241103T070000
END:STANDARD
BEGIN:DAYLIGHT
TZOFFSETFROM:-0600
TZOFFSETTO:-0500
TZNAME:CDT
DTSTART:20250309T080000
END:DAYLIGHT
BEGIN:STANDARD
TZOFFSETFROM:-0500
TZOFFSETTO:-0600
TZNAME:CST
DTSTART:20251102T070000
END:STANDARD
BEGIN:DAYLIGHT
TZOFFSETFROM:-0600
TZOFFSETTO:-0500
TZNAME:CDT
DTSTART:20260308T080000
END:DAYLIGHT
BEGIN:STANDARD
TZOFFSETFROM:-0500
TZOFFSETTO:-0600
TZNAME:CST
DTSTART:20261101T070000
END:STANDARD
BEGIN:DAYLIGHT
TZOFFSETFROM:-0600
TZOFFSETTO:-0500
TZNAME:CDT
DTSTART:20270314T080000
END:DAYLIGHT
BEGIN:STANDARD
TZOFFSETFROM:-0500
TZOFFSETTO:-0600
TZNAME:CST
DTSTART:20271107T070000
END:STANDARD
END:VTIMEZONE
BEGIN:VEVENT
DTSTART;TZID=America/Chicago:20260316T110000
DTEND;TZID=America/Chicago:20260316T113000
DTSTAMP:20260423T035900
CREATED:20251209T173354Z
LAST-MODIFIED:20260310T172306Z
UID:7798-1773658800-1773660600@chicookworks.org
SUMMARY:Workforce Innovation Board: Finance Committee Meeting
DESCRIPTION:Our Workforce Innovation Board and Committee meetings are public meetings subject to the open meetings act. We request that members of the public RSVP for these meetings to ensure that we have enough space for everyone to have a seat. You may be asked to provide a photo ID at the front desk upon arrival for general security purposes. \nYou may RSVP by filling out this linked webform : March 2026: Public Workforce Innovation Board and Committee meeting RSVP – Fill out form \n  \nThis meeting will be held in person at 1 N Dearborn\, Rooftop Conference Room\, Chicago\, IL\, 60602. \nYou may attend this meeting virtually through Microsoft Teams using the link or meeting ID below. \nMicrosoft Teams Need help? \nJoin the meeting now \nMeeting ID: 298 851 567 28 \nPasscode: xw7uH9BE
URL:https://chicookworks.org/event/workforce-innovation-board-finance-committee-meeting-6/
CATEGORIES:Board Committees
END:VEVENT
BEGIN:VEVENT
DTSTART;TZID=America/Chicago:20260304T133000
DTEND;TZID=America/Chicago:20260304T143000
DTSTAMP:20260423T035900
CREATED:20251209T173259Z
LAST-MODIFIED:20260227T214912Z
UID:7795-1772631000-1772634600@chicookworks.org
SUMMARY:Workforce Innovation Board: Youth Committee Meeting
DESCRIPTION:Our Workforce Innovation Board and Committee meetings are public meetings subject to the open meetings act. We request that members of the public RSVP for these meetings to ensure that we have enough space for everyone to have a seat. You may be asked to provide a photo ID at the front desk upon arrival for general security purposes. \nYou may RSVP by filling out this linked webform : March 2026: Public Workforce Innovation Board and Committee meeting RSVP – Fill out form \nThis meeting will be held in person at 1 N Dearborn\, Rooftop Conference Room\, Chicago\, IL\, 60602.\nYou may attend this meeting virtually through Microsoft Teams using the link or meeting ID below. \n  \nMicrosoft Teams Need help? \nJoin the meeting now \nMeeting ID: 248 147 881 057 2 \nPasscode: 7Rp2gu6B \nDial in by phone \n+1 412-912-1530\,\,732679352# United States\, Pittsburgh \nFind a local number \nPhone conference ID: 732 679 352# \nFor organizers: Meeting options | Reset dial-in PIN \n________________________________________________________________________________
URL:https://chicookworks.org/event/workforce-innovation-board-youth-committee-meeting-6/
CATEGORIES:Board Committees
END:VEVENT
BEGIN:VEVENT
DTSTART;TZID=America/Chicago:20260304T093000
DTEND;TZID=America/Chicago:20260304T103000
DTSTAMP:20260423T035900
CREATED:20251209T173256Z
LAST-MODIFIED:20260227T214739Z
UID:7793-1772616600-1772620200@chicookworks.org
SUMMARY:Workforce Innovation Board: Service Delivery Committee Meeting
DESCRIPTION:Our Workforce Innovation Board and Committee meetings are public meetings subject to the open meetings act. We request that members of the public RSVP for these meetings to ensure that we have enough space for everyone to have a seat. You may be asked to provide a photo ID at the front desk upon arrival for general security purposes. \nYou may RSVP by filling out this linked webform : March 2026: Public Workforce Innovation Board and Committee meeting RSVP – Fill out form \n  \nThis meeting will be held in person at 1 N Dearborn\, Rooftop Conference Room\, Chicago\, IL\, 60602. \nYou may attend this meeting virtually through Microsoft Teams using the link or meeting ID below. \n________________________________________________________________________________ \nMicrosoft Teams Need help? \nJoin the meeting now \nMeeting ID: 279 794 629 949 86 \nPasscode: vt7kU3ES \nDial in by phone \n+1 412-912-1530\,\,629006444# United States\, Pittsburgh \nFind a local number \nPhone conference ID: 629 006 444# \nFor organizers: Meeting options | Reset dial-in PIN
URL:https://chicookworks.org/event/workforce-innovation-board-service-delivery-committee-meeting-7/
CATEGORIES:Board Committees
END:VEVENT
BEGIN:VEVENT
DTSTART;TZID=America/Chicago:20251210T130000
DTEND;TZID=America/Chicago:20251210T133000
DTSTAMP:20260423T035900
CREATED:20250129T195355Z
LAST-MODIFIED:20251125T201733Z
UID:7058-1765371600-1765373400@chicookworks.org
SUMMARY:Workforce Innovation Board: Finance Committee
DESCRIPTION:This meeting will be held in person at 1 N Dearborn\, Rooftop Conference Room\, Chicago\, IL\, 60602. \nYou may attend this meeting virtually through Microsoft Teams using the link or meeting ID below. \nMicrosoft Teams Need help? \nJoin the meeting now \nMeeting ID: 298 851 567 28  \nPasscode: xw7uH9BE
URL:https://chicookworks.org/event/workforce-innovation-board-finance-committee-11/
LOCATION:The Partnership Offices\, 1 N Dearborn\, Chicago\, IL\, 60602\, United States
CATEGORIES:Board Committees
END:VEVENT
BEGIN:VEVENT
DTSTART;TZID=America/Chicago:20251201T133000
DTEND;TZID=America/Chicago:20251201T143000
DTSTAMP:20260423T035900
CREATED:20250129T200134Z
LAST-MODIFIED:20251022T153915Z
UID:7062-1764595800-1764599400@chicookworks.org
SUMMARY:Workforce Innovation Board: Youth Committee
DESCRIPTION:This meeting will be held in person at 1 N Dearborn\, Rooftop Conference Room\, Chicago\, IL\, 60602. \n  \nIf you attend this meeting in person\, you may be asked to provide a photo ID at the front desk upon arrival for general security purposes. Upon arriving at the building’s lobby\, you will find a designated waiting area. Our staff will be available to greet you and escort you to the meeting space. \n  \nYou may also attend this meeting virtually though Microsoft Teams using the link or meeting ID below. \nMicrosoft Teams: Join the meeting now \nMeeting ID: 278 401 023 319 9 \nPasscode: Y3ZX7Z8w
URL:https://chicookworks.org/event/workforce-innovation-board-youth-committee-8/
LOCATION:The Partnership Offices\, 1 N Dearborn\, Chicago\, IL\, 60602\, United States
CATEGORIES:Board Committees
END:VEVENT
BEGIN:VEVENT
DTSTART;TZID=America/Chicago:20251201T093000
DTEND;TZID=America/Chicago:20251201T103000
DTSTAMP:20260423T035900
CREATED:20250129T194529Z
LAST-MODIFIED:20251022T153916Z
UID:7054-1764581400-1764585000@chicookworks.org
SUMMARY:Workforce Innovation Board: Service Delivery Committee Meeting
DESCRIPTION:This meeting will be held in person at 1 N Dearborn\, Rooftop Conference Room\, Chicago\, IL\, 60602. If you attend this meeting in person\, you may be asked to provide a photo ID at the front desk upon arrival for general security purposes. Upon arriving at the building’s lobby\, you will find a designated waiting area. Our staff will be available to greet you and escort you to the meeting space. \n  \nYou may also attend this meeting virtually though Microsoft Teams using the link or meeting ID below. \nMicrosoft Teams : Join the meeting now \nMeeting ID: 233 926 883 766 4 \nPasscode: 3HX2PK7u
URL:https://chicookworks.org/event/workforce-innovation-board-service-delivery-committee-meeting-6/
LOCATION:The Partnership Offices\, 1 N Dearborn\, Chicago\, IL\, 60602\, United States
CATEGORIES:Board Committees
END:VEVENT
BEGIN:VEVENT
DTSTART;TZID=America/Chicago:20250915T133000
DTEND;TZID=America/Chicago:20250915T143000
DTSTAMP:20260423T035900
CREATED:20250129T200007Z
LAST-MODIFIED:20250220T223821Z
UID:7061-1757943000-1757946600@chicookworks.org
SUMMARY:Workforce Innovation Board: Youth Committee
DESCRIPTION:This meeting will be held in person at 1 N Dearborn\, Rooftop Conference Room\, Chicago\, IL\, 60602. \nYou may attend this meeting virtually through Microsoft Teams using the link or meeting ID below. \nMicrosoft Teams Need help? \nJoin the meeting now \nMeeting ID: 227 924 619 455  \nPasscode: bf6dL9uP
URL:https://chicookworks.org/event/workforce-innovation-board-youth-committee-7/
LOCATION:The Partnership Offices\, 1 N Dearborn\, Chicago\, IL\, 60602\, United States
CATEGORIES:Board Committees
END:VEVENT
BEGIN:VEVENT
DTSTART;TZID=America/Chicago:20250915T110000
DTEND;TZID=America/Chicago:20250915T113000
DTSTAMP:20260423T035900
CREATED:20250129T195222Z
LAST-MODIFIED:20250220T223858Z
UID:7057-1757934000-1757935800@chicookworks.org
SUMMARY:Workforce Innovation Board: Finance Committee
DESCRIPTION:This meeting will be held in person at 1 N Dearborn\, Rooftop Conference Room\, Chicago\, IL\, 60602. \n  \nYou may attend this meeting virtually through Microsoft Teams using the link or meeting ID below. \nMicrosoft Teams Need help? \nJoin the meeting now \nMeeting ID: 298 851 567 28  \nPasscode: xw7uH9BE
URL:https://chicookworks.org/event/workforce-innovation-board-finance-committee-10/
LOCATION:The Partnership Offices\, 1 N Dearborn\, Chicago\, IL\, 60602\, United States
CATEGORIES:Board Committees
END:VEVENT
BEGIN:VEVENT
DTSTART;TZID=America/Chicago:20250915T093000
DTEND;TZID=America/Chicago:20250915T103000
DTSTAMP:20260423T035900
CREATED:20250129T194329Z
LAST-MODIFIED:20250220T223902Z
UID:7053-1757928600-1757932200@chicookworks.org
SUMMARY:Workforce Innovation Board: Service Delivery Committee
DESCRIPTION:This meeting will be held in person at 1 N Dearborn\, Rooftop Conference Room\, Chicago\, IL\, 60602. \n  \nYou may attend this meeting virtually through Microsoft Teams using the link or meeting ID below. \nMicrosoft Teams Need help? \nJoin the meeting now \nMeeting ID: 256 951 154 072  \nPasscode: Xo3P5Nf9
URL:https://chicookworks.org/event/workforce-innovation-board-service-delivery-committee-7/
LOCATION:The Partnership Offices\, 1 N Dearborn\, Chicago\, IL\, 60602\, United States
CATEGORIES:Board Committees
END:VEVENT
BEGIN:VEVENT
DTSTART;TZID=America/Chicago:20250616T110000
DTEND;TZID=America/Chicago:20250616T113000
DTSTAMP:20260423T035900
CREATED:20250129T194951Z
LAST-MODIFIED:20250610T170937Z
UID:7056-1750071600-1750073400@chicookworks.org
SUMMARY:Workforce Innovation Board: Finance Committee
DESCRIPTION:This meeting will be held in person at 1 N Dearborn\, Rooftop Conference Room\, Chicago\, IL\, 60602. \n  \nYou may attend this meeting virtually through Microsoft Teams using the link or meeting ID below. \nMicrosoft Teams Need help? \nJoin the meeting now \nMeeting ID: 298 851 567 28  \nPasscode: xw7uH9BE
URL:https://chicookworks.org/event/workforce-innovation-board-finance-committee-9/
LOCATION:The Partnership Offices\, 1 N Dearborn\, Chicago\, IL\, 60602\, United States
CATEGORIES:Board Committees
END:VEVENT
BEGIN:VEVENT
DTSTART;TZID=America/Chicago:20250616T093000
DTEND;TZID=America/Chicago:20250616T103000
DTSTAMP:20260423T035900
CREATED:20250129T194057Z
LAST-MODIFIED:20250610T170942Z
UID:7052-1750066200-1750069800@chicookworks.org
SUMMARY:Workforce Innovation Board: Service Delivery Committee Meeting
DESCRIPTION:This meeting will be held in person at 1 N Dearborn\, Rooftop Conference Room\, Chicago\, IL\, 60602. \n  \nYou may attend this meeting virtually through Microsoft Teams using the link or meeting ID below. \nMicrosoft Teams Need help? \nJoin the meeting now \nMeeting ID: 256 951 154 072  \nPasscode: Xo3P5Nf9
URL:https://chicookworks.org/event/workforce-innovation-board-service-delivery-committee-meeting-5/
LOCATION:The Partnership Offices\, 1 N Dearborn\, Chicago\, IL\, 60602\, United States
CATEGORIES:Board Committees
END:VEVENT
BEGIN:VEVENT
DTSTART;TZID=America/Chicago:20250612T120000
DTEND;TZID=America/Chicago:20250612T130000
DTSTAMP:20260423T035900
CREATED:20250129T195906Z
LAST-MODIFIED:20250610T170855Z
UID:7060-1749729600-1749733200@chicookworks.org
SUMMARY:Workforce Innovation Board: Youth Committee
DESCRIPTION:This meeting will be held in person at 1 N Dearborn\, Rooftop Conference Room\, Chicago\, IL\, 60602. \nYou may attend this meeting virtually through Microsoft Teams using the link or meeting ID below. \nMicrosoft Teams Need help? \nJoin the meeting now \nMeeting ID: 227 924 619 455  \nPasscode: bf6dL9uP
URL:https://chicookworks.org/event/workforce-innovation-board-youth-committee-6/
LOCATION:The Partnership Offices\, 1 N Dearborn\, Chicago\, IL\, 60602\, United States
CATEGORIES:Board Committees
END:VEVENT
BEGIN:VEVENT
DTSTART;TZID=America/Chicago:20250317T133000
DTEND;TZID=America/Chicago:20250317T143000
DTSTAMP:20260423T035900
CREATED:20250129T195731Z
LAST-MODIFIED:20250313T155228Z
UID:7059-1742218200-1742221800@chicookworks.org
SUMMARY:Workforce Innovation Board: Youth Committee
DESCRIPTION:This meeting will be held in person at 1 N Dearborn\, Rooftop Conference Room\, Chicago\, IL\, 60602. \n  \nIf you will be attending this meeting in person\,  we request that members of the public RSVP through the linked webform to ensure that we have enough space for everyone to have a seat. You may be asked to provide a photo ID at the front desk upon arrival for general security purposes. Upon arriving at the building’s lobby\, you will find a designated waiting area. Our staff will be available to greet you and escort you to the meeting space. \n  \nYou may attend this meeting virtually through Microsoft Teams using the link or meeting ID below. \nMicrosoft Teams Need help? \nJoin the meeting now \nMeeting ID: 227 924 619 455  \nPasscode: bf6dL9uP
URL:https://chicookworks.org/event/workforce-innovation-board-youth-committee-5/
LOCATION:The Partnership Offices\, 1 N Dearborn\, Chicago\, IL\, 60602\, United States
CATEGORIES:Board Committees
END:VEVENT
BEGIN:VEVENT
DTSTART;TZID=America/Chicago:20250317T110000
DTEND;TZID=America/Chicago:20250317T113000
DTSTAMP:20260423T035900
CREATED:20250129T194753Z
LAST-MODIFIED:20250313T154704Z
UID:7055-1742209200-1742211000@chicookworks.org
SUMMARY:Workforce Innovation Board: Finance Committee
DESCRIPTION:This meeting will be held in person at 1 N Dearborn\, Rooftop Conference Room\, Chicago\, IL\, 60602. \n  \nIf you will be attending this meeting in person\,  we request that members of the public RSVP through the linked webform to ensure that we have enough space for everyone to have a seat. You may be asked to provide a photo ID at the front desk upon arrival for general security purposes. Upon arriving at the building’s lobby\, you will find a designated waiting area. Our staff will be available to greet you and escort you to the meeting space. \n  \nYou may attend this meeting virtually through Microsoft Teams using the link or meeting ID below. \nMicrosoft Teams Need help? \nJoin the meeting now \nMeeting ID: 298 851 567 28  \nPasscode: xw7uH9BE
URL:https://chicookworks.org/event/workforce-innovation-board-finance-committee-8/
LOCATION:The Partnership Offices\, 1 N Dearborn\, Chicago\, IL\, 60602\, United States
CATEGORIES:Board Committees
END:VEVENT
BEGIN:VEVENT
DTSTART;TZID=America/Chicago:20250317T093000
DTEND;TZID=America/Chicago:20250317T103000
DTSTAMP:20260423T035900
CREATED:20250129T193800Z
LAST-MODIFIED:20250313T154513Z
UID:7050-1742203800-1742207400@chicookworks.org
SUMMARY:Workforce Innovation Board: Service Delivery Committee Meeting
DESCRIPTION:This meeting will be held in person at 1 N Dearborn\, Rooftop Conference Room\, Chicago\, IL\, 60602. \n  \nIf you will be attending this meeting in person\,  we request that members of the public RSVP through the linked webform to ensure that we have enough space for everyone to have a seat. You may be asked to provide a photo ID at the front desk upon arrival for general security purposes. Upon arriving at the building’s lobby\, you will find a designated waiting area. Our staff will be available to greet you and escort you to the meeting space. \n  \nYou may attend this meeting virtually through Microsoft Teams using the link or meeting ID below. \n  \nMicrosoft Teams Need help? \nJoin the meeting now \nMeeting ID: 256 951 154 072  \nPasscode: Xo3P5Nf9
URL:https://chicookworks.org/event/workforce-innovation-board-service-delivery-committee-meeting-4/
LOCATION:The Partnership Offices\, 1 N Dearborn\, Chicago\, IL\, 60602\, United States
CATEGORIES:Board Committees
END:VEVENT
BEGIN:VEVENT
DTSTART;TZID=America/Chicago:20241217T103000
DTEND;TZID=America/Chicago:20241217T120000
DTSTAMP:20260423T035900
CREATED:20240124T212212Z
LAST-MODIFIED:20250417T184052Z
UID:5914-1734431400-1734436800@chicookworks.org
SUMMARY:Workforce Innovation Board Meeting
DESCRIPTION:This meeting will be held in person at 69 W Washington St\, Chicago\, IL\, 60602 – 22nd floor\, Conference Room B. \n  \nYou may attend this meeting virtually through Microsoft Teams using the link or meeting ID below. \nMicrosoft Teams Need help? \nJoin the meeting now \nMeeting ID: 253 705 594 137 \nPasscode: Ac6Hm9Rw
URL:https://chicookworks.org/event/workforce-innovation-board-meeting-18/
LOCATION:Cook County Building  22nd Floor  Conference Room B\, 69 W. Washington\, 22nd Floor Conference Room B\, Chicago\, IL\, 60602\, United States
CATEGORIES:Board Committees,WIB
END:VEVENT
BEGIN:VEVENT
DTSTART;TZID=America/Chicago:20241216T133000
DTEND;TZID=America/Chicago:20241216T133000
DTSTAMP:20260423T035900
CREATED:20240425T210110Z
LAST-MODIFIED:20241205T224441Z
UID:6477-1734355800-1734355800@chicookworks.org
SUMMARY:Workforce Innovation Board: Youth Committee
DESCRIPTION:This meeting will be held in person at 69 W Washington St\, Chicago\, IL\, 60602 – 22nd floor\, Conference Room C. \n  \nYou may attend this meeting virtually through Microsoft Teams using the link or meeting ID below. \n________________________________________________________________________________ \nMicrosoft Teams Need help? \nJoin the meeting now \nMeeting ID: 235 826 688 737 \nPasscode: aR3sM3Lz \nFor organizers: Meeting options \n________________________________________________________________________________
URL:https://chicookworks.org/event/workforce-innovation-board-youth-committee-3/
LOCATION:George W. Dunne Cook County Office Building\, Floor 22\, Conference Room D\, 69 W Washington St\, Floor 22\, Conference Room D\, Chicago\, IL\, 60602\, United States
CATEGORIES:Board Committees
END:VEVENT
BEGIN:VEVENT
DTSTART;TZID=America/Chicago:20241216T110000
DTEND;TZID=America/Chicago:20241216T113000
DTSTAMP:20260423T035900
CREATED:20240425T205754Z
LAST-MODIFIED:20241205T224230Z
UID:6476-1734346800-1734348600@chicookworks.org
SUMMARY:Workforce Innovation Board: Finance Committee
DESCRIPTION:This meeting will be held in person at 69 W Washington St\, Chicago\, IL\, 60602 – 22nd floor\, Conference Room C. \n  \nYou may attend this meeting virtually through Microsoft Teams using the link or meeting ID below. \nMicrosoft Teams Need help? \nJoin the meeting now \nMeeting ID: 241 575 090 120 \nPasscode: Q5YR3Ho7
URL:https://chicookworks.org/event/workforce-innovation-board-finance-committee-7/
LOCATION:George W. Dunne Cook County Office Building\, Floor 22\, Conference Room C
CATEGORIES:Board Committees
END:VEVENT
BEGIN:VEVENT
DTSTART;TZID=America/Chicago:20241216T093000
DTEND;TZID=America/Chicago:20241216T103000
DTSTAMP:20260423T035900
CREATED:20240425T205410Z
LAST-MODIFIED:20241205T224009Z
UID:6474-1734341400-1734345000@chicookworks.org
SUMMARY:Workforce Innovation Board: Service Delivery Committee
DESCRIPTION:This meeting will be held in person at 69 W Washington St\, Chicago\, IL\, 60602 – 22nd floor\, Conference Room C. \n  \nYou may attend this meeting virtually through Microsoft Teams using the link or meeting ID below. \nMicrosoft Teams Need help? \nJoin the meeting now \nMeeting ID: 222 330 440 257 \nPasscode: CC3XN3YA
URL:https://chicookworks.org/event/workforce-innovation-board-service-delivery-committee-6/
CATEGORIES:Board Committees
END:VEVENT
BEGIN:VEVENT
DTSTART;TZID=America/Chicago:20240917T103000
DTEND;TZID=America/Chicago:20240917T120000
DTSTAMP:20260423T035900
CREATED:20240124T211625Z
LAST-MODIFIED:20250130T175245Z
UID:5912-1726569000-1726574400@chicookworks.org
SUMMARY:Workforce Innovation Board Meeting
DESCRIPTION:This meeting will be held in person at 69 W Washington St\, Chicago\, IL\, 60602 – 22nd floor\, Conference Room H. \n  \nYou may attend this meeting virtually through Zoom. https://chicookworks-org.zoom.us/j/82548560486?pwd=KeZGpjERuSDQMz0WmxgrnY6uYbEA3P.1
URL:https://chicookworks.org/event/workforce-innovation-board-meeting-17/
LOCATION:Cook County Building 22nd Floor Conference Room H\, 69 W. Washington St\, 22nd Floor\, Conference Room H\, Chicago\, IL\, 60602\, United States
CATEGORIES:Board Committees,WIB
END:VEVENT
BEGIN:VEVENT
DTSTART;TZID=America/Chicago:20240916T133000
DTEND;TZID=America/Chicago:20240916T143000
DTSTAMP:20260423T035900
CREATED:20240425T210314Z
LAST-MODIFIED:20240910T161522Z
UID:6478-1726493400-1726497000@chicookworks.org
SUMMARY:Workforce Innovation Board: Youth Committee
DESCRIPTION:This meeting will be held in person at 69 W Washington St\, Chicago\, IL\, 60602 – 22nd floor\, Conference Room G. \nYou may attend this meeting virtually through Zoom. https://chicookworks-org.zoom.us/j/86304694237?pwd=m5YFOksdyAPvNF6oHte8aMDbdwSy5L.1
URL:https://chicookworks.org/event/workforce-innovation-board-youth-committee-4/
LOCATION:Cook County Building  22nd Floor  Conference Room G\, 69 W. Washington\, 22nd Floor Conference Room G\, Chicago\, IL\, 60602\, United States
CATEGORIES:Board Committees
END:VEVENT
BEGIN:VEVENT
DTSTART;TZID=America/Chicago:20240916T110000
DTEND;TZID=America/Chicago:20240916T113000
DTSTAMP:20260423T035900
CREATED:20240425T205642Z
LAST-MODIFIED:20240910T161334Z
UID:6475-1726484400-1726486200@chicookworks.org
SUMMARY:Workforce Innovation Board: Finance Committee
DESCRIPTION:This meeting will be held in person at 69 W Washington St\, Chicago\, IL\, 60602 – 22nd floor\, Conference Room G. \nYou may attend this meeting virtually through Zoom. https://chicookworks-org.zoom.us/j/87302003342?pwd=6KBWTptPxrYkP2iEVJ0VbfP8ds3EGU.1
URL:https://chicookworks.org/event/workforce-innovation-board-finance-committee-6/
LOCATION:Cook County Building  22nd Floor  Conference Room G\, 69 W. Washington\, 22nd Floor Conference Room G\, Chicago\, IL\, 60602\, United States
CATEGORIES:Board Committees
END:VEVENT
BEGIN:VEVENT
DTSTART;TZID=America/Chicago:20240916T093000
DTEND;TZID=America/Chicago:20240916T103000
DTSTAMP:20260423T035900
CREATED:20240425T205120Z
LAST-MODIFIED:20240910T161652Z
UID:6473-1726479000-1726482600@chicookworks.org
SUMMARY:Workforce Innovation Board: Service Delivery Committee
DESCRIPTION:This meeting will be held in person at 69 W Washington St\, Chicago\, IL\, 60602 – 22nd floor\, Conference Room G. \n  \nYou may attend this meeting virtually through Zoom. https://chicookworks-org.zoom.us/j/85073336537?pwd=iN1ubbXsmyNhHfQhbbxYlaoFmiBu2S.1 \n 
URL:https://chicookworks.org/event/workforce-innovation-board-service-delivery-committee-5/
LOCATION:Cook County Building  22nd Floor  Conference Room G\, 69 W. Washington\, 22nd Floor Conference Room G\, Chicago\, IL\, 60602\, United States
CATEGORIES:Board Committees
END:VEVENT
BEGIN:VEVENT
DTSTART;TZID=America/Chicago:20240618T103000
DTEND;TZID=America/Chicago:20240618T120000
DTSTAMP:20260423T035900
CREATED:20240124T211300Z
LAST-MODIFIED:20240924T195815Z
UID:5911-1718706600-1718712000@chicookworks.org
SUMMARY:Workforce Innovation Board Meeting
DESCRIPTION:This meeting will be held in person at 69 W Washington St\, Chicago\, IL\, 60602 – 22nd floor\, Conference Room D. \nVirtual attendees may attend via Zoom. \nJoin Zoom Meeting \nhttps://chicookworks-org.zoom.us/j/82548560486?pwd=KeZGpjERuSDQMz0WmxgrnY6uYbEA3P.1 \n  \nMeeting ID: 825 4856 0486 \nPasscode: 018737 \n 
URL:https://chicookworks.org/event/workforce-innovation-board-meeting-16/
LOCATION:Cook County Building  22nd Floor  Conference Room D\, 69 W. Washington St\, Chicago\, Illinois\, 60602
CATEGORIES:Board Committees,WIB
END:VEVENT
BEGIN:VEVENT
DTSTART;TZID=America/Chicago:20240618T100000
DTEND;TZID=America/Chicago:20240618T103000
DTSTAMP:20260423T035900
CREATED:20240617T142704Z
LAST-MODIFIED:20240625T204622Z
UID:6576-1718704800-1718706600@chicookworks.org
SUMMARY:Workforce Innovation Board: Executive Committee Meeting
DESCRIPTION:This meeting will be held in person at 69 W Washington St\, Chicago\, IL\, 60602 – 22nd floor\, Conference Room D. \nVirtual attendees may attend via Zoom. \nJoin Zoom Meeting \nJoin Zoom Meeting\nhttps://chicookworks-org.zoom.us/j/85194346754?pwd=bthIEzHpmbDHizTEAcTr25ehj9JIyf.1 \nMeeting ID: 851 9434 6754\nPasscode: 428758
URL:https://chicookworks.org/event/workforce-innovation-board-executive-committee-meeting-5/
LOCATION:Cook County Building  22nd Floor  Conference Room D\, 69 W. Washington St\, Chicago\, Illinois\, 60602
CATEGORIES:Board Committees
END:VEVENT
BEGIN:VEVENT
DTSTART;TZID=America/Chicago:20240617T133000
DTEND;TZID=America/Chicago:20240617T143000
DTSTAMP:20260423T035900
CREATED:20240425T204631Z
LAST-MODIFIED:20240625T205213Z
UID:6472-1718631000-1718634600@chicookworks.org
SUMMARY:Workforce Innovation Board: Youth Committee
DESCRIPTION:This meeting will be held in person at 69 W Washington St\, Chicago\, IL\, 60602 – 22nd floor\, Conference Room D.
URL:https://chicookworks.org/event/workforce-innovation-board-youth-committee-2/
LOCATION:George W. Dunne Cook County Office Building\, Floor 22\, Conference Room D\, 69 W Washington St\, Floor 22\, Conference Room D\, Chicago\, IL\, 60602\, United States
CATEGORIES:Board Committees
END:VEVENT
BEGIN:VEVENT
DTSTART;TZID=America/Chicago:20240617T103000
DTEND;TZID=America/Chicago:20240617T113000
DTSTAMP:20260423T035900
CREATED:20240425T203543Z
LAST-MODIFIED:20240625T205346Z
UID:6471-1718620200-1718623800@chicookworks.org
SUMMARY:Workforce Innovation Board: Finance Committee
DESCRIPTION:This meeting will be held in person at 69 W Washington St\, Chicago\, IL\, 60602 – 22nd floor\, Conference Room D.
URL:https://chicookworks.org/event/workforce-innovation-board-finance-committee-5/
LOCATION:George W. Dunne Cook County Office Building\, Floor 22\, Conference Room D\, 69 W Washington St\, Floor 22\, Conference Room D\, Chicago\, IL\, 60602\, United States
CATEGORIES:Board Committees
END:VEVENT
BEGIN:VEVENT
DTSTART;TZID=America/Chicago:20240617T093000
DTEND;TZID=America/Chicago:20240617T103000
DTSTAMP:20260423T035900
CREATED:20240425T203025Z
LAST-MODIFIED:20240625T204929Z
UID:6468-1718616600-1718620200@chicookworks.org
SUMMARY:Workforce Innovation Board: Service Delivery Committee
DESCRIPTION:This meeting will be held in person at 69 W Washington St\, Chicago\, IL\, 60602 – 22nd floor\, Conference Room D.
URL:https://chicookworks.org/event/workforce-innovation-board-service-delivery-committee-4/
LOCATION:George W. Dunne Cook County Office Building\, Floor 22\, Conference Room D\, 69 W Washington St\, Floor 22\, Conference Room D\, Chicago\, IL\, 60602\, United States
CATEGORIES:Board Committees
END:VEVENT
BEGIN:VEVENT
DTSTART;TZID=America/Chicago:20231212T103000
DTEND;TZID=America/Chicago:20231212T120000
DTSTAMP:20260423T035900
CREATED:20230503T135545Z
LAST-MODIFIED:20240424T171719Z
UID:5361-1702377000-1702382400@chicookworks.org
SUMMARY:Workforce Innovation Board Meeting
DESCRIPTION:
URL:https://chicookworks.org/event/workforce-innovation-board-meeting-12/
LOCATION:Cook County Building 22nd Floor Conference Room A\, 69 W Washington St\, Chicago\, 60618\, United States
CATEGORIES:Board Committees,WIB
END:VEVENT
BEGIN:VEVENT
DTSTART;TZID=America/Chicago:20231212T100000
DTEND;TZID=America/Chicago:20231212T103000
DTSTAMP:20260423T035900
CREATED:20231129T165748Z
LAST-MODIFIED:20240103T215429Z
UID:5748-1702375200-1702377000@chicookworks.org
SUMMARY:Executive Committee
DESCRIPTION:
URL:https://chicookworks.org/event/executive-committee-2/
LOCATION:Cook County Building  22nd Floor  Conference Room B\, 69 W. Washington\, 22nd Floor Conference Room B\, Chicago\, IL\, 60602\, United States
CATEGORIES:Board Committees
END:VEVENT
END:VCALENDAR